BEGIN:VCALENDAR
PRODID:-//hacksw/handcal//NONSGML v1.0//EN
VERSION:2.0
METHOD:PUBLISH
BEGIN:VEVENT
DTSTART:20260421T223000Z
DTEND:20260422T000000Z
LOCATION:Rio Bank / 701 E. Expressway 83, McAllen, TX 78501
UID:2945620260421T223000ZRGVEPC April Meeting: Tax Update 
DTSTAMP:20260421T114813Z
DESCRIPTION:\nMixer: 5:30 - 6:00 pm\nDinner/Virtual Presentation: 6:00 - 7:00 pm\nCatered by: CoffeeZone\n \nNational Association of Estate Planners & Councils Speaker Series Presenter\n  \n \n \n
SUMMARY:RGVEPC April Meeting: Tax Update  - Rio Grande Valley Estate Planning Council 
PRIORITY:3
BEGIN:VALARM
TRIGGER:PT18H
ACTION:DISPLAY
DESCRIPTION:Reminder
END:VALARM
END:VEVENT
END:VCALENDAR